BEGIN:VCALENDAR
VERSION:2.0
PRODID:icalendar-ruby
CALSCALE:GREGORIAN
METHOD:PUBLISH
BEGIN:VEVENT
DTSTAMP:20260421T203328Z
UID:49-2161187@oakstreet.church
DTSTART:20260624T230000Z
DTEND:20260625T003000Z
CLASS:PUBLIC
CREATED:20260421T133818
DESCRIPTION:
LAST-MODIFIED:20260421T133818
LOCATION:Oak Street Baptist Church
SUMMARY:Celebrate Recovery
URL;VALUE=URI:https://www.oakstreet.church/events/celebrate-recovery--49/20
 26-06-24
ATTACH;FILENAME=96d0f58e-7b3e-9bf3-b186-9a6b91be41f4.jpg;FMTTYPE=image/jpeg
 :https://dq5pwpg1q8ru0.cloudfront.net/2025/03/12/19/12/35/30dda6e0-3bdb-4e
 c3-aa87-71059360952b/96d0f58e-7b3e-9bf3-b186-9a6b91be41f4.jpg
END:VEVENT
END:VCALENDAR
