BEGIN:VCALENDAR
VERSION:2.0
PRODID:icalendar-ruby
CALSCALE:GREGORIAN
METHOD:PUBLISH
BEGIN:VEVENT
DTSTAMP:20260422T155951Z
UID:40-2166446@oakstreet.church
DTSTART:20261030T120000Z
DTEND:20261030T130000Z
CLASS:PUBLIC
CREATED:20260422T084625
DESCRIPTION:Coffee with Pastor Cliff– Let’s Connect! \nInviting you to 
 Coffee with the Pastor – a casual\, no-pressure chance to:\n\n\nHear his
  heart for OSBC\n\n\n Share your story\n\n\n Learn how you can be part of 
 something amazing\n\n\nWhether you’re new to the area\, curious about wh
 at we’re doing\, or just love good coffee and conversation\, he would lo
 ve to sit down with you.
LAST-MODIFIED:20260422T084625
LOCATION:Oak Street Baptist Church
SUMMARY:Coffee with Pastor Cliff
URL;VALUE=URI:https://www.oakstreet.church/events/coffee-with-pastor-cliff/
 2026-10-30
ATTACH;FILENAME=2f6d08d1-3a75-d9b3-2fb7-ec0b6ae2a188 (1).jpg;FMTTYPE=image/
 jpeg:https://dq5pwpg1q8ru0.cloudfront.net/2025/03/12/18/51/12/55484988-5d1
 5-4248-bf63-c6496111f55e/2f6d08d1-3a75-d9b3-2fb7-ec0b6ae2a188%20(1).jpg
END:VEVENT
END:VCALENDAR
