BEGIN:VCALENDAR
VERSION:2.0
PRODID:icalendar-ruby
CALSCALE:GREGORIAN
METHOD:PUBLISH
BEGIN:VEVENT
DTSTAMP:20260424T231223Z
UID:55-2187074@oakstreet.church
DTSTART:20261006T223000Z
DTEND:20261007T003000Z
CLASS:PUBLIC
CREATED:20260424T171115
DESCRIPTION:&gt\;&gt\;&gt\;Senior Adult Game Night&lt\;&lt\;&lt\;\nTuesday 
 Nights 5:30pm-7:30pm // In the Fellowship Hall\nA fun evening of fellowshi
 p &amp\; games for senior adults. There will be a variety of games ranging
  from board games to party games. If you would like more information pleas
 e contact Loyall at the church office.
LAST-MODIFIED:20260424T171115
LOCATION:Oak Street Baptist Church
SUMMARY:Senior Game Night
URL;VALUE=URI:https://www.oakstreet.church/events/senior-game-night/2026-10
 -06
ATTACH;FILENAME=Senior Adult Game Night 2025.jpg;FMTTYPE=image/jpeg:https:/
 /dq5pwpg1q8ru0.cloudfront.net/2025/05/07/19/55/55/1b0d72a6-d4f2-459a-b48d-
 456d95ac4b8b/Senior%20Adult%20Game%20Night%202025.jpg
END:VEVENT
END:VCALENDAR
